BEGIN:VCALENDAR
VERSION:2.0
PRODID:-//eventon.com NONSGML v1.0//EN
CALSCALE:GREGORIAN
METHOD:PUBLISH
BEGIN:VEVENT
UID:69e604b8245a7
DTSTAMP:20260420T104928Z
DTSTART:20250419T003000Z
DTEND:20250419T023000Z
LOCATION:
SUMMARY:Rich Hawkins
DESCRIPTION:Rich Hawkins is a Solo/Instrumental Guitarist in the styles of 
 Jazz\,  Pop\,  Blues\,  Folk\,  Country etc. Many Jazz standards as well as
  familiar Pop tunes are on his playlist. His music can be bright and uplift
 ing or soft and ambient for any type of event. A veteran Guitarist for the[
 ..]\nhttps://www.mustardseedmarket.com/events/rich-hawkins-2/
URL:https://www.mustardseedmarket.com/events/rich-hawkins-2/
END:VEVENT
END:VCALENDAR