BEGIN:VCALENDAR
VERSION:2.0
PRODID:-//eventon.com NONSGML v1.0//EN
CALSCALE:GREGORIAN
METHOD:PUBLISH
BEGIN:VEVENT
UID:69e5fc53c09bb
DTSTAMP:20260420T101339Z
DTSTART:20260425T193000Z
DTEND:20260425T213000Z
LOCATION:Highland Square Mustard Seed Cafe 867 W. Market Street
SUMMARY:Umojah Nation
DESCRIPTION:Umojah Nation\,  Northeast Ohio’s inspirational reggae band\,
   adopts its moniker from the Swahili word for unity–Umoja! While seeded 
 in Jamaican roots and dancehall\,  Umojah Nation possesses an original styl
 e of reggae all its own. Led by the husband/wife duo\,  Tracey and Stefano 
 are gifted singers and songwriters who craft songs[..]\nhttps://www.mustard
 seedmarket.com/events/umojah-nation-5/var/ri-2.l-L1
URL:https://www.mustardseedmarket.com/events/umojah-nation-5/var/ri-2.l-L1
END:VEVENT
END:VCALENDAR